BEGIN:VCALENDAR
VERSION:2.0
PRODID:-//Parroquia San Juan de Ávila - ECPv6.8.3//NONSGML v1.0//EN
CALSCALE:GREGORIAN
METHOD:PUBLISH
X-ORIGINAL-URL:https://parroquiasanjuandeavila.com
X-WR-CALDESC:Eventos para Parroquia San Juan de Ávila
REFRESH-INTERVAL;VALUE=DURATION:PT1H
X-Robots-Tag:noindex
X-PUBLISHED-TTL:PT1H
BEGIN:VTIMEZONE
TZID:Europe/Madrid
BEGIN:DAYLIGHT
TZOFFSETFROM:+0100
TZOFFSETTO:+0200
TZNAME:CEST
DTSTART:20240331T010000
END:DAYLIGHT
BEGIN:STANDARD
TZOFFSETFROM:+0200
TZOFFSETTO:+0100
TZNAME:CET
DTSTART:20241027T010000
END:STANDARD
END:VTIMEZONE
BEGIN:VEVENT
DTSTART;VALUE=DATE:20240408
DTEND;VALUE=DATE:20240409
DTSTAMP:20260424T143617
CREATED:20240408T081503Z
LAST-MODIFIED:20240408T082127Z
UID:18008-1712534400-1712620799@parroquiasanjuandeavila.com
SUMMARY:Solemnidad de la Encarnación
DESCRIPTION:El 8 de abril de 2024 celebramos la solemnidad de la Encarnación o Anunciación del Señor\, (normalmente es el 25 de marzo pero  este año se ha trasladado al coincidir con el lunes Santo) \n¿Qué celebramos? \nEn la Anunciación se celebra la Encarnación del Hijo de Dios\, el momento justo en el que la Virgen María quedó embarazada por obra y gracia del Espíritu Santo\, y tras un embarazo de nueve meses\, el día del parto virginal se celebra la Navidad. Celebramos que el Hijo de Dios haya asumido una naturaleza humana para llevar a cabo por ella nuestra salvación. \n* * * * \nLa Subcomisión Episcopal para la Familia y la Defensa de la Vida nos anima a celebrar en este día la Jornada por la Vida 2024 bajo el lema «La vida\, buena noticia» \n¿Por qué la vida es una buena noticia? \nLa vida no es “un derecho absoluto a la libre disposición del criterio humano” es “un don de Dios” y este es el motivo “más profundo” para que sea considerada “una buena noticia”. Los obispos distinguen entre el don que “es algo que acogemos porque se nos entrega” y el derecho que “es algo que nosotros podemos exigir\, con sus límites en el caso de la vida”. También señalan la diferencia entre regalo y don. El primero\, “es algo que se me da para que disponga de ello como quiera”\, mientras que el don “implica una tarea\, una responsabilidad”\, con unas implicaciones al inicio\, en el transcurso y al final de la vida. \nORACIÓN\nDios compasivo y misericordioso\,\nelevamos nuestras voces\ny nuestros corazones\npara celebrar la vida\ncomo buena noticia que nos has donado.\nReconocemos en cada momento\ny en cada ser humano\nuna manifestación de tu amor incondicional.\nAyúdanos a valorar\ny proteger la vida en todas sus etapas\,\nrecordándonos constantemente\nnuestro deber de promover\nla dignidad y el respeto hacia cada persona\,\nespecialmente hacia las más vulnerables.\nQue nuestras acciones y nuestras palabras\nsean testimonios vivientes de tu amor\ny de nuestra responsabilidad\ncomo custodios de la vida.\nTe lo pedimos por intercesión de santa María\,\nMadre de la Vida.\nAmén. \n 
URL:https://parroquiasanjuandeavila.com/event/solemnidad-de-la-encarnacion/
ATTACH;FMTTYPE=image/jpeg:https://parroquiasanjuandeavila.com/wp-content/uploads/2019/04/Anunciación.jpg
END:VEVENT
BEGIN:VEVENT
DTSTART;TZID=Europe/Madrid:20240424T200000
DTEND;TZID=Europe/Madrid:20240424T210000
DTSTAMP:20260424T143617
CREATED:20240409T090658Z
LAST-MODIFIED:20240409T090658Z
UID:18026-1713988800-1713992400@parroquiasanjuandeavila.com
SUMMARY:Comentario ‘Gaudete Et Exsultate’
DESCRIPTION:El próximo miécoles 24 de abril de 2024 a las 20H  en la Parroquia Santa María de la Alegría (Avda. Carlos V\, 2 Móstoles) tendremos el comentario  a la exhortación Apostólica ‘Gaudete Et Exsultate’ del Santo Padre Francisco a la luz de la santidad de San Simón. \nLa conferencia será impartida por D. Borja Muriel Cachón\, pàrroco de Sta Mª de la Alegría de Móstoles y responsable de formación en la comunidad de Hermanos del Amor Misericordioso. \nLa conferencia se enmarca dentro de las actividades del Año Santo por el IV Centenario de la muerte de San Simón de Rojas que comenzó el 29 de septiembre de 2023 con la apertura de la Puerta Santa y finalizará el 29 de septiembre de 2024. \nCOMENTARIO\n‘Gaudete Et Exsultate’ del Santo Padre Francisco´ a la luz de la santidad de San Simón\nPor D. Borja Muriel Cachón\nParroquia Santa María de la Alegría(Avda. Carlos V\, 2 Móstoles)\n24 abril 2024 a las 20H \n¡NO PUEDES PERDERTELO! ¡TE ESPERAMOS! \n\, \nPuedes leer también: \n\nConferencia San Simón en la historia de España\nSan Simón de Rojas y su Amor a los pobres 19-Enero-2024 – YouTube\nMisa votiva por San Simón de Rojas\nApertura de Año Jubilar San Simón de Rojas\n\n \n 
URL:https://parroquiasanjuandeavila.com/event/comentario-gaudete-et-exsultate/
LOCATION:Parroquia Santa María de la Alegría (Avda. Carlos V\, 2 Móstoles)
ATTACH;FMTTYPE=image/jpeg:https://parroquiasanjuandeavila.com/wp-content/uploads/2024/04/Cartel-S.Simon-14.jpg
END:VEVENT
END:VCALENDAR