BEGIN:VCALENDAR
VERSION:2.0
PRODID:-//Parroquia San Juan de Ávila - ECPv6.8.3//NONSGML v1.0//EN
CALSCALE:GREGORIAN
METHOD:PUBLISH
X-ORIGINAL-URL:https://parroquiasanjuandeavila.com
X-WR-CALDESC:Eventos para Parroquia San Juan de Ávila
REFRESH-INTERVAL;VALUE=DURATION:PT1H
X-Robots-Tag:noindex
X-PUBLISHED-TTL:PT1H
BEGIN:VTIMEZONE
TZID:Europe/Madrid
BEGIN:DAYLIGHT
TZOFFSETFROM:+0100
TZOFFSETTO:+0200
TZNAME:CEST
DTSTART:20240331T010000
END:DAYLIGHT
BEGIN:STANDARD
TZOFFSETFROM:+0200
TZOFFSETTO:+0100
TZNAME:CET
DTSTART:20241027T010000
END:STANDARD
END:VTIMEZONE
BEGIN:VEVENT
DTSTART;TZID=Europe/Madrid:20240203T101500
DTEND;TZID=Europe/Madrid:20240203T170000
DTSTAMP:20260419T221930
CREATED:20240130T093612Z
LAST-MODIFIED:20240130T095848Z
UID:17309-1706955300-1706979600@parroquiasanjuandeavila.com
SUMMARY:Convivencia Congregación Mariana
DESCRIPTION:¡Estamos todos invitados! \nSerá este sábado 3 de febrero de 2024 de 10:15 a 17:00H en los salones parroquiales. \nLa cogregación mariana María Madre de la Esperanza\, es decir\, la nuestra de la parroquia\, invita a todos\, no solo a los congregantes\, a participar en una jornada de convivencia y oración. \nSi perteneces a la congregación ¡Te esperamos! \nSi no perteneces a la congregación ¡Te esperamos! \nHORARIO \n\n1. Oración\n10:15 Exposición del Santísimo\n2. Congreso\n11:30 sobre el directorio y la misión apostólica del congregante\n3. Preguntas\n12:00 compartimos en pequeños grupos\n4. Misa 13:15\n5. Comida\n14:30 traer de casa\n6. Rosario 16:30\n\nLa jornada acabará a las 17:00 \nPuedes leer también: \n\nFotos de la convivencia de la congregación mariana 2023\nGrupos parroquiales: Congregación Mariana de adultos.\nConvivencia de la Congregación Mariana de jóvenes en la Ribota (Segovia)\n\n¡Te esperamos!
URL:https://parroquiasanjuandeavila.com/event/convivencia-congregacion-mariana-2/
LOCATION:Parroquia San Juan de Ávila Móstoles
ATTACH;FMTTYPE=image/jpeg:https://parroquiasanjuandeavila.com/wp-content/uploads/2024/01/convivencia_congregacion.jpg
END:VEVENT
BEGIN:VEVENT
DTSTART;TZID=Europe/Madrid:20240214T173000
DTEND;TZID=Europe/Madrid:20240214T180000
DTSTAMP:20260419T221930
CREATED:20240209T102942Z
LAST-MODIFIED:20240209T102942Z
UID:17423-1707931800-1707933600@parroquiasanjuandeavila.com
SUMMARY:Miércoles de ceniza 2024
DESCRIPTION:El próximo miércoles día 14 de febrero de 2024 celebraremos el miércoles de ceniza.  Los horarios de las celebraciones son las siguientes: \n\n9:30H Misa con imposición de ceniza\n17:30H Celebración para niños  con imposición de ceniza\n20H Misa con imposición de ceniza\n\nLa imposición de las cenizas nos recuerda que nuestra vida en la tierra es pasajera y que nuestra vida definitiva se encuentra en el Cielo. La Cuaresma comienza con el Miércoles de Ceniza y es un tiempo de oración\, penitencia y ayuno. Cuarenta días que la Iglesia marca para la conversión del corazón. \nLas palabras que se usan para la imposición de cenizas\, son:\n\n«Recuerda que polvo eres y en polvo te convertirás»\n«Conviértete y cree en el Evangelio».\n\n\nOrigen de la costumbre\nAntiguamente\, los judíos acostumbraban a cubrirse de ceniza cuando hacían algún sacrificio y los ninivitas también usaban la ceniza como signo de su deseo de conversión de su mala vida a una vida con Dios. En los primeros siglos de la Iglesia\, las personas que querían recibir el Sacramento de la Reconciliación el Jueves Santo\, se ponían ceniza en la cabeza y se presentaban ante la comunidad vestidos con un «hábito penitencial». Esto representaba su voluntad de convertirse.  Puedes leer también: \n\n\nImágenes de la festividad de la Presentación\n \n\n\n\n\n\nImágenes de la convivencia de la Congregación\n\n\n\nImágenes de la festividad de la Presentación\n 
URL:https://parroquiasanjuandeavila.com/event/miercoles-de-ceniza-2024/
LOCATION:Parroquia San Juan de Ávila Móstoles
END:VEVENT
BEGIN:VEVENT
DTSTART;TZID=Europe/Madrid:20240216T190000
DTEND;TZID=Europe/Madrid:20240216T200000
DTSTAMP:20260419T221930
CREATED:20240209T103235Z
LAST-MODIFIED:20240209T103406Z
UID:17437-1708110000-1708113600@parroquiasanjuandeavila.com
SUMMARY:Vía Crucis
DESCRIPTION:Empezando el viernes 16 de febrero de 2024\, todos los viernes de Cuaresma se rezará el Vía Crucis a las 19:15H\, terminando antes de la Misa de las 20H. \nEl Vía Crucis o Camino a la Cruz es una de las más antiguas devociones practicadas por los Católicos en todo el mundo.  Consiste en acompañar a Jesús en su Pasión y Muerte\, en sus horas finales\, repasando 15 momentos (a veces se resumen en 14 o 13)\, las Estaciones del Vía Crucis\, desde que fue condenado a muerte hasta su Resurrección. \nCada viernes dirigirá el rezo del Vía Crucis uno de los grupos parroquiales. \nTodos los viernes del 16 febrero al 22 de marzo de 2024.\nVía Crucis a las 19:15h\n¡Acompaña al Señor en el camino de la Cruz!\n¡Te esperamos! ¡El Señor te espera! \n\n\n\nPuedes leer también: \n\nOraciones de Cuaresma: rezo del Vía Crucis\nEscritos de San Juan de Ávila: el Miércoles de Ceniza\nExposición del Santísimo de lunes a jueves de 19 a 20H (justo antes de la Misa de 8 de la tarde) y los viernes todo el día de 6 de la mañana a 8 de la tarde.
URL:https://parroquiasanjuandeavila.com/event/via-crucis-21/
ATTACH;FMTTYPE=image/jpeg:https://parroquiasanjuandeavila.com/wp-content/uploads/2023/02/ViaCrucis.jpg
END:VEVENT
BEGIN:VEVENT
DTSTART;TZID=Europe/Madrid:20240222T200000
DTEND;TZID=Europe/Madrid:20240222T200000
DTSTAMP:20260419T221930
CREATED:20240212T112620Z
LAST-MODIFIED:20240212T142155Z
UID:17441-1708632000-1708632000@parroquiasanjuandeavila.com
SUMMARY:Conferencia: Vida de S.Simón en la Historia de España
DESCRIPTION:El próximo jueves 22 de febrero de 2024 a las 20H  en la Parroquia de la Virgen del Carmen (C/ París\, 4 Móstoles) tendremos la conferencia de la Vida de San Simón en la Historia de España. \nLa conferencia será impartida por D. PEDRO ALIAGA\, ministro provincial de la Orden de la Santísima Trinidad y de los Cautivos y autor del libro ‘San Simon de Rojas: Un Santo en la Corte de Felipe III’ \nLa conferencia se enmarca dentro de las actividades del Año Santo por el IV Centenario de la muerte de San Simón de Rojas que comenzó el 29 de septiembre de 2023 con la apertura de la Puerta Santa y finalizará el 29 de septiembre de 2024. \nCONFERENCIA\nVida de San Simón en la Historia de España\nPor D. Pedro Aliaga\nParroquia Virgen del Carmen (C/París\, 4 Móstoles)\n22 Febrero 2024 a las 20H \n¡NO PUEDES PERDERTELO! ¡TE ESPERAMOS! \n  \nPuedes leer también: \n\nMesa redonda San Simón y su amor a los pobres\nSan Simón de Rojas y su Amor a los pobres 19-Enero-2024 – YouTube\nMisa votiva por San Simón de Rojas\nApertura de Año Jubilar San Simón de Rojas
URL:https://parroquiasanjuandeavila.com/event/conferencia-vida-de-s-simon-en-la-historia-de-espana/
LOCATION:Parroquia Virgen del Carmen\, C/París\, 4\, Móstoles\, Spain
ATTACH;FMTTYPE=image/jpeg:https://parroquiasanjuandeavila.com/wp-content/uploads/2024/02/Cartel-S.Simon-11.jpg
END:VEVENT
END:VCALENDAR