BEGIN:VCALENDAR
VERSION:2.0
PRODID:-//Parroquia San Juan de Ávila - ECPv6.8.3//NONSGML v1.0//EN
CALSCALE:GREGORIAN
METHOD:PUBLISH
X-WR-CALNAME:Parroquia San Juan de Ávila
X-ORIGINAL-URL:https://parroquiasanjuandeavila.com
X-WR-CALDESC:Eventos para Parroquia San Juan de Ávila
REFRESH-INTERVAL;VALUE=DURATION:PT1H
X-Robots-Tag:noindex
X-PUBLISHED-TTL:PT1H
BEGIN:VTIMEZONE
TZID:Europe/Madrid
BEGIN:DAYLIGHT
TZOFFSETFROM:+0100
TZOFFSETTO:+0200
TZNAME:CEST
DTSTART:20230326T010000
END:DAYLIGHT
BEGIN:STANDARD
TZOFFSETFROM:+0200
TZOFFSETTO:+0100
TZNAME:CET
DTSTART:20231029T010000
END:STANDARD
END:VTIMEZONE
BEGIN:VEVENT
DTSTART;TZID=Europe/Madrid:20231202T183000
DTEND;TZID=Europe/Madrid:20231202T200000
DTSTAMP:20260425T123112
CREATED:20231128T095936Z
LAST-MODIFIED:20231128T095936Z
UID:16791-1701541800-1701547200@parroquiasanjuandeavila.com
SUMMARY:Retiro de Adviento
DESCRIPTION:El próximo sábado 2 de diciembre de 2023 a las 18:30H tendrá lugar un retiro espiritual en nuestra parroquia. Este retiro nos sevirá para preparar el Adviento que justo comienza el domingo 3. \nEl retiro comenzará a las a las 6 y media de la tarde y durará hasta las 8 (hora de comienza de la Misa). \nDurante el retiro nuestros sacerdotes nos darán algunos puntos de oración para ayudarnos a rezar y se expondrá el Santísimo. \n¡ Os invitamos a todos a pasar la tarde con el Señor !\n¡ Él te está esperando ! \n\n\n\nPuedes leer también: \n\nMeditaciones y fotos del retiro del 13 de marzo de 2021\nMeditaciones y fotos del retiro del 26 de marzo de 2022\nHoras Santas de Adviento (diciembre 2020)
URL:https://parroquiasanjuandeavila.com/event/retiro-de-adviento/
LOCATION:Parroquia San Juan de Ávila Móstoles
ATTACH;FMTTYPE=image/jpeg:https://parroquiasanjuandeavila.com/wp-content/uploads/2022/11/2022-11-20_Sagrario_detalle.jpeg
END:VEVENT
BEGIN:VEVENT
DTSTART;TZID=Europe/Madrid:20231207T210000
DTEND;TZID=Europe/Madrid:20231207T220000
DTSTAMP:20260425T123112
CREATED:20231204T182544Z
LAST-MODIFIED:20231204T182544Z
UID:16882-1701982800-1701986400@parroquiasanjuandeavila.com
SUMMARY:Vigilia de la Inmaculada. Cerro de los Ángeles
DESCRIPTION:Jueves 7 de diciembre de 2023\, 21.00 horas\nBasílica del Sagrado Corazón de Jesús \nLa Basílica del Sagrado Corazón de Jesús (Cerro de los Ángeles) acogerá el próximo miércoles 7 de diciembre\, a las 21.00 horas\, la tradicional Vigilia de la Inmaculada\, organizada por la Delegación diocesana de Juventud en colaboración con la de Apostolado Seglar. \n \nPresidirá la celebración la patrona diocesana\, la Virgen de los Ángeles\, colocada en el altar en su talla de madera policromada en blanco y azul y coronada en plata\, que ha sido trasladada desde el convento de las MM. Carmelitas del Cerro. \nLa imagen de la Virgen estaba visitando este Monasterio desde el pasado 26 de noviembre\, solemnidad de Cristo Rey\, con motivo del Año Jubilar concedido por la Santa Sede al Monasterio del Sagrado Corazón de Jesús y Santa María de los Ángeles\, por el Centenario de su fundación. \nEl acto comenzará con el tradicional canto oriental dedicado a la Virgen María del Akathistos (un antiguo himno litúrgico que ensalza el misterio de María) cuya oración será acompañada por el obispo auxiliar D. José María Avendaño y\, a continuación\, se rezará el santo Rosario. \nEl canto será interpretado por el coro diocesano bajo la batuta de Javier Ávila\, quien también acompañará la celebración posterior de la eucaristía\, presidida por el obispo diocesano D. Ginés García Beltrán y concelebrada por el auxiliar\, vicarios episcopales y sacerdotes. \nDestaca García Beltrán que “en la Virgen María vemos el misterio del amor de Dios que la eligió antes de todos los tiempos y fue preservada del pecado para que fuera un templo precioso en el que Dios se hiciera hombre. Dios ha elegido a María y la ha destinado a ser santa\, la ha destinado para que dé muchos frutos y consumar en Ella la historia de la salvación”. \nEl dogma de la Inmaculada concepción de María\nEl dogma de la Inmaculada Concepción de María fue proclamado por el Papa Pío IX el 8 de diciembre de 1854\, en su bula Ineffabilis Deus. Este dogma sostiene que\, por una gracia especial de Dios\, la Virgen María fue preservada de todo pecado desde el momento de su concepción\, es decir\, desde el instante en que María comenzó la vida humana. \nEn otras palabras\, María fue preservada inmune de toda mancha de la culpa original en el primer instante de su concepción por singular gracia y privilegio de Dios omnipotente\, en atención a los méritos de Cristo Jesús\, Salvador del género humano. \n  \nPuedes leer también: \n\n¡Ha comenzado el Adviento!\nEntrevista a María y Rafael sobre Caritas
URL:https://parroquiasanjuandeavila.com/event/vigilia-de-la-inmaculada-cerro-de-los-angeles/
LOCATION:Cerro de los Angeles\, Getafe\, Cerro de los Ángeles\, Getafe\, Spain
ATTACH;FMTTYPE=image/png:https://parroquiasanjuandeavila.com/wp-content/uploads/2023/12/vigilia2023.png
END:VEVENT
BEGIN:VEVENT
DTSTART;TZID=Europe/Madrid:20231221T210000
DTEND;TZID=Europe/Madrid:20231221T213000
DTSTAMP:20260425T123112
CREATED:20231220T085059Z
LAST-MODIFIED:20231220T085059Z
UID:16960-1703192400-1703194200@parroquiasanjuandeavila.com
SUMMARY:Vísperas Solemnes
DESCRIPTION:El jueves 21 de diciembre de 2023 celebremos el oficio de vísperas de forma solemne a las 21H\, después de la Misa de las 8 de la tarde. (No habrá Hora Santa)\n\n \n¡No te lo puedes perder! \n \nComo en los Laudes\, las Vísperas\, como oración de la tarde\, es considerada por una venerable tradición de la Iglesia como el eje del Oficio diario  y\, por esto\, tienen que ser tratadas y celebradas como las Horas principales. \n \nLas Vísperas se celebran al oscurecer\, cuando muere el día\, a fin de “dar gracias por todo lo que hemos recibido o que hemos hecho rectamente”. Recordamos también la redención\, por medio de la oración que levantamos “como incienso en tu presencia” y en la cual “levantamos las manos como ofrenda de la tarde”. \n \n\nPuedes leer también:\n\n \n\n 	Escritos de San Juan de Ávila: El tiempo de Adviento.\n \n 	Práctica cristiana: Oración de Adviento
URL:https://parroquiasanjuandeavila.com/event/visperas-solemnes-2/
LOCATION:Parroquia San Juan de Ávila Móstoles
ATTACH;FMTTYPE=image/jpeg:https://parroquiasanjuandeavila.com/wp-content/uploads/2023/12/VisperasSolemnes-2.jpg
END:VEVENT
BEGIN:VEVENT
DTSTART;TZID=Europe/Madrid:20231224T120000
DTEND;TZID=Europe/Madrid:20231225T010000
DTSTAMP:20260425T123112
CREATED:20231220T085618Z
LAST-MODIFIED:20231220T085618Z
UID:16962-1703419200-1703466000@parroquiasanjuandeavila.com
SUMMARY:Misa del Gallo a las 12 de la noche
DESCRIPTION:HORARIOS DE NAVIDAD 2023  \nY AÑO NUEVO 2024 \nDICIEMBRE 2023 \n\n21 DICIEMBRE: Vísperas Solemnes tras la Eucaristía 21:00 h.\n23 DICIEMBRE: Salida de Montañeros (De 9:00 a 20:00 h.)\n24 DICIEMBRE:\n\nMisas de domingo: 11;30 y 13:00 h (No habrá Misa a las 20:00 h.)\nNochebuena\, vigilia de Navidad. Misa del Gallo: 00:00 h.\n\n\n25 DICIEMBRE: Natividad del Señor. Misas: 13:00 y 20:00 h.\n31 DICIEMBRE: Domingo de la Sagrada Familia. Misas: 11:30\, 13 y 20:00 h.\n\nENERO 2024 \n\n1 ENERO: Santa María Madre de Dios. Misas: 13:00 y 20:00 h.\n4 ENERO: Festival de Navidad (17:00 h.)\n6 ENERO: Epifanía. Misas: 13:00 y 20:00 h.\n\nLos jueves 21\, 28 y 4 de enero NO habrá Hora Santa.\nLos viernes 22\, 29 y 5 de enero NO habrá exposición del Santísimo.\nDel 26 al 30 y del 2 al 5 de enero se mantiene la Misa a la hora habitual: 20:00 h. \n \n 
URL:https://parroquiasanjuandeavila.com/event/misa-del-gallo-a-las-12-de-la-noche-2/
LOCATION:Parroquia San Juan de Ávila Móstoles
ATTACH;FMTTYPE=image/jpeg:https://parroquiasanjuandeavila.com/wp-content/uploads/2022/12/Virgen_Maria_Nino.jpg
END:VEVENT
BEGIN:VEVENT
DTSTART;TZID=Europe/Madrid:20231225T130000
DTEND;TZID=Europe/Madrid:20231225T200000
DTSTAMP:20260425T123112
CREATED:20231220T152755Z
LAST-MODIFIED:20231220T152755Z
UID:16981-1703509200-1703534400@parroquiasanjuandeavila.com
SUMMARY:Natividad del Señor
DESCRIPTION:Horarios de Navidad 2023 y año nuevo 2024\nPublicado en/el \n\n\nDICIEMBRE 2023 \n\n21 DICIEMBRE: Visperas Solemnes (tras la Eucaristía) 21:00 h.\n23 DICIEMBRE: Salida de Montañeros (De 9:00 a 20:00 h.)\n24 DICIEMBRE:\n\nMisas de domingo: 11;30\, 13H (No habrá Misa a las 20:00 h.)\nNochebuena\, vigilia de Navidad. Misa del Gallo: 00:00 h.\n\n\n25 DICIEMBRE: Natividad del Señor. Misas: 13:00 y 20:00 h.\n31 DICIEMBRE: Domingo de la Sagrada Familia. Misas: 11:30\, 13:00 y 20:00 h.\n\nENERO 2024 \n\n1 ENERO: Santa María Madre de Dios. Misas: 13:00 y 20:00 h.\n4 ENERO: Festival de Navidad (17:00 h.)\n6 ENERO: Epifanía. Misas: 13:00 y 20:00 h.\n\nLos jueves 21\, 28 y 4 de enero NO habrá Hora Santa.\nLos viernes 22\, 29 y 5 de enero NO habrá exposición del Santísimo.\nDel 26 al 30 y del 2 al 5 de enero se mantiene la Misa a la hora habitual (20:00 h). \nPuedes leer también: \n\nPrimera Misa Rorate 2023\nEscritos de San Juan de Ávila:  ¿Quién es el que ha nacido?\n\nCalendarioNavidad22-23 – 1
URL:https://parroquiasanjuandeavila.com/event/natividad-del-senor/
ATTACH;FMTTYPE=image/jpeg:https://parroquiasanjuandeavila.com/wp-content/uploads/2022/12/Virgen_Maria_Nino.jpg
END:VEVENT
BEGIN:VEVENT
DTSTART;TZID=Europe/Madrid:20231230T190000
DTEND;TZID=Europe/Madrid:20231231T210000
DTSTAMP:20260425T123112
CREATED:20231222T090706Z
LAST-MODIFIED:20231226T154957Z
UID:16992-1703962800-1704056400@parroquiasanjuandeavila.com
SUMMARY:JORNADA DE LA SAGRADA FAMILIA
DESCRIPTION:“La familia portadora de Buena Noticia” \nSÁBADO 30 de DICIEMBRE de 2023: Celebración Diocesana organizada por la DELEGACIÓN DE FAMILIA Y VIDA de la DIÓCESIS DE GETAFE\, a la que estamos todos invitados: \n\nLugar: Parroquia SANTIAGO APÓSTOL (IGLESIA DE SANTA MARÍA) Plaza de las Margaritas s/n Villaviciosa de Odón\,(parking en la c/ Torrelaguna) https://parroquiasantiagoapostol.com\n19:15 ROSARIO con 2 testimonios de la JMJ de Lisboa 2023\n20:00 Misa presidida por: D. José María Avendaño\, Obispo Auxiliar de Getafe\, con la Renovación de las promesas familiares.\n\n¡No puedes faltar! \n. DOMINGO 31 de DICIEMBRE de 2023: \n\nMisa en cada Parroquia y Comunidad. En S.Juan de Ávila: 11:30\, 13:00 y 20:00 h.\n\n. \nLa alegría cristiana se debe contagiar\nLa  familia cristiana es una respuesta a la sociedad actual. “Ser conscientes de esta verdad tiene que impulsarnos a mostrar de manera renovada el gran tesoro que es la familia cristiana\, precisamente en el contexto de este mundo individualista”. \nEste testimonio\, debe estar marcado por la más profunda alegría porque la familia es portadora de la mejor de las noticias: la salvación que ha venido a traernos Jesucristo. Y esta alegría se debe contagiar a todo el mundo. Y cuando una familia comparte la alegría que viene de Dios es naturalmente misionera. Esta llamada a la misión brota del sacramento del bautismo y del sacramento del matrimonio. \n. \n\nPuedes leer también: \n\n\n\n\nHorarios de Navidad 2023 y año nuevo 2024\n\n\n\nEscritos de San Juan de Ávila:  ¿Quién es el que ha nacido?\n\n\n\nEncuentro Matrimonio y Familia en Villaviciosa\, 30 dic 2019\n\n\n. .
URL:https://parroquiasanjuandeavila.com/event/jornada-de-la-sagrada-familia-2/
ATTACH;FMTTYPE=image/jpeg:https://parroquiasanjuandeavila.com/wp-content/uploads/2023/12/Jornada-Sagrada-Familia-2023_castellano-1.jpg
END:VEVENT
END:VCALENDAR