BEGIN:VCALENDAR
VERSION:2.0
PRODID:-//Parroquia San Juan de Ávila - ECPv6.8.3//NONSGML v1.0//EN
CALSCALE:GREGORIAN
METHOD:PUBLISH
X-WR-CALNAME:Parroquia San Juan de Ávila
X-ORIGINAL-URL:https://parroquiasanjuandeavila.com
X-WR-CALDESC:Eventos para Parroquia San Juan de Ávila
REFRESH-INTERVAL;VALUE=DURATION:PT1H
X-Robots-Tag:noindex
X-PUBLISHED-TTL:PT1H
BEGIN:VTIMEZONE
TZID:Europe/Madrid
BEGIN:DAYLIGHT
TZOFFSETFROM:+0100
TZOFFSETTO:+0200
TZNAME:CEST
DTSTART:20220327T010000
END:DAYLIGHT
BEGIN:STANDARD
TZOFFSETFROM:+0200
TZOFFSETTO:+0100
TZNAME:CET
DTSTART:20221030T010000
END:STANDARD
END:VTIMEZONE
BEGIN:VEVENT
DTSTART;TZID=Europe/Madrid:20221126T170000
DTEND;TZID=Europe/Madrid:20221126T200000
DTSTAMP:20260423T201940
CREATED:20221117T101214Z
LAST-MODIFIED:20221117T103836Z
UID:13083-1669482000-1669492800@parroquiasanjuandeavila.com
SUMMARY:Retiro Espiritual
DESCRIPTION:El próximo sábado 26 de noviembre de 2022 a las 17H tendrá lugar un retiro espiritual en nuestra parroquia. Este retino nos sevirá para preparar el Adviento que justo comienza el domingo 27.\nEl retiro comenzará a las a las 5 de la tarde (17 H)- y durará hasta 2oH que comenzará la Misa. \nDurante el retiro nuestros sacerdotes nos darán algunos puntos de oración para ayudarnos a rezar y se expondrá el Santísimo. \n¡ Os invitamos a todos a pasar la tarde con el Señor !\n¡ Él te está esperando ! \n\n\n\n«El Maestro está ahí y te llama» Jn 11\,28 \nPuedes leer también: \n\nMeditaciones y fotos del retiro del 13 de marzo de 2021\n\n\nMeditaciones Semana de la Eucaristía. \n\nMeditación\, lunes 8 de marzo de 2021\, San Juan Pablo II\nMeditación\, martes 9 de marzo de 2021. Santa Madre Maravillas\nMeditación\, miércoles 10 de marzo de 2021\, Santa Teresa de Calcuta\nMeditación\, jueves 11 de marzo de 2021. San Manuel González\nMeditación\, viernes 12 de marzo de 2021. Beato Carlo Acutis\nMeditación\, sábado 13 de marzo de 2021. Santa Clara\nMeditación\, domingo 14 de marzo de 2021. San Juan de Ávila
URL:https://parroquiasanjuandeavila.com/event/retiro-espiritual-3/
LOCATION:Parroquia San Juan de Ávila Móstoles
CATEGORIES:Vida parroquial
ATTACH;FMTTYPE=image/jpeg:https://parroquiasanjuandeavila.com/wp-content/uploads/2019/04/Iglesia.jpg
END:VEVENT
END:VCALENDAR