BEGIN:VCALENDAR
VERSION:2.0
PRODID:-//Parroquia San Juan de Ávila - ECPv6.8.3//NONSGML v1.0//EN
CALSCALE:GREGORIAN
METHOD:PUBLISH
X-WR-CALNAME:Parroquia San Juan de Ávila
X-ORIGINAL-URL:https://parroquiasanjuandeavila.com
X-WR-CALDESC:Eventos para Parroquia San Juan de Ávila
REFRESH-INTERVAL;VALUE=DURATION:PT1H
X-Robots-Tag:noindex
X-PUBLISHED-TTL:PT1H
BEGIN:VTIMEZONE
TZID:Europe/Madrid
BEGIN:DAYLIGHT
TZOFFSETFROM:+0100
TZOFFSETTO:+0200
TZNAME:CEST
DTSTART:20210328T010000
END:DAYLIGHT
BEGIN:STANDARD
TZOFFSETFROM:+0200
TZOFFSETTO:+0100
TZNAME:CET
DTSTART:20211031T010000
END:STANDARD
END:VTIMEZONE
BEGIN:VEVENT
DTSTART;TZID=Europe/Madrid:20210424T090000
DTEND;TZID=Europe/Madrid:20210424T193000
DTSTAMP:20260425T191046
CREATED:20210412T075627Z
LAST-MODIFIED:20210412T130309Z
UID:7923-1619254800-1619292600@parroquiasanjuandeavila.com
SUMMARY:Excursión de Montañeros ¡Apúntate ahora!
DESCRIPTION:¡ Apúntate ahora ! El 24 de abril de 2021 hay marcha de montañeros al Seminario de Rozas (Madrid).\n \nDatos\n \nSalida: 9h\nRegreso: 20h\nDestino: Seminario de Rozas (Madrid)\nImporte: 15 €\n \nCondiciones necesarias por las circunstancias de COVID-19:\n \n\n 	Llevar mascarilla en todo momento\n 	Iremos en grupos de 6 ó de 15 máximo\, según normativa\n 	No intercambiar comida\, ropa\, mochila… salvo familiares convivientes.\n 	No haber tenido síntomas relacionados con el COVID-19\, 14 días antes de la actividad\n 	No haber estado en contacto con un caso positivo de COVID-19 14 días antes\n\n \nMaterial\n \n\n 	El habitual en marchas de montañeros\n 	2 mascarillas (una de repuesto por si acaso)\n 	Gel hidro-alcohólico\n\n \nModo de apuntarse\n \n\n 	Rellenar Ficha de autorización (si no se hizo en la primera actividad). Descarga la ficha\, si no lo hiciste: Ficha_Montañeros_2020-2021\n 	Entregar un sobre con el nombre y con el importe en la parroquia\n\n \n¡ Montañeros\, apuntaos ahora ! \n\n \n! Contamos contigo ! \n\n \n\n \nPuedes leer también:\n \n\n 	Marcha de Montañeros a Cenicientos\, 20 de marzo 2021\n 	Fotos de la salida de Montañeros a Valdemaqueda\, 27 de febrero 2021\n 	Actividades del 23 de enero 2021\n 	De la Silla de Felipe II a las Machotas\, 28 noviembre 2020\n 	Salida de Montañeros\, 24 octubre 2020\n\n \n\n\n\n\n\n 
URL:https://parroquiasanjuandeavila.com/event/excursion-de-montaneros/
CATEGORIES:Jóvenes,Montañeros,Vida parroquial
ATTACH;FMTTYPE=image/png:https://parroquiasanjuandeavila.com/wp-content/uploads/2016/12/LOGO-black.png
END:VEVENT
END:VCALENDAR