BEGIN:VCALENDAR
VERSION:2.0
PRODID:-//Parroquia San Juan de Ávila - ECPv6.8.3//NONSGML v1.0//EN
CALSCALE:GREGORIAN
METHOD:PUBLISH
X-WR-CALNAME:Parroquia San Juan de Ávila
X-ORIGINAL-URL:https://parroquiasanjuandeavila.com
X-WR-CALDESC:Eventos para Parroquia San Juan de Ávila
REFRESH-INTERVAL;VALUE=DURATION:PT1H
X-Robots-Tag:noindex
X-PUBLISHED-TTL:PT1H
BEGIN:VTIMEZONE
TZID:Europe/Madrid
BEGIN:DAYLIGHT
TZOFFSETFROM:+0100
TZOFFSETTO:+0200
TZNAME:CEST
DTSTART:20240331T010000
END:DAYLIGHT
BEGIN:STANDARD
TZOFFSETFROM:+0200
TZOFFSETTO:+0100
TZNAME:CET
DTSTART:20241027T010000
END:STANDARD
END:VTIMEZONE
BEGIN:VEVENT
DTSTART;TZID=Europe/Madrid:20240330T100000
DTEND;TZID=Europe/Madrid:20240330T233000
DTSTAMP:20260419T221754
CREATED:20240327T215612Z
LAST-MODIFIED:20240327T215612Z
UID:17851-1711792800-1711841400@parroquiasanjuandeavila.com
SUMMARY:Sábado Santo
DESCRIPTION:JUEVES SANTO \n\n10:00 Laudes\n10:30 Explicación del Jueves Santo y Oficios\n19:00 Celebración de la Cena del Señor\n21:30 Hora Santa para niños\n23:00 Hora Santa\n\nVIERNES SANTO \n\n10:00 Laudes\n10:30 Explicación Viernes Santo y Oficios\n12:00 Vía Crucis\n17:00 Celebración de la Pasión del Señor y Rosario (tras la celebración de la Pasión)\n\nSABADO SANTO \n\n10:00 Laudes\n10:30 Explicación Sábado Santo y Vigilia Pascual\n11:30 Vía Matris\n23:00 Solemne Vigilia Pascual\n\nDOMINGO DE PASCUA \n\n13:00 Misa de Resurrección\n20:00 Misa de Resurrección\n\nLUNES\, MARTES Y MIÉRCOLES SANTO CONFESIONES \n* * * * * \nOtras convocatorias en Móstoles: \n\nPrograma de Semana Santa en Mostoles 2024
URL:https://parroquiasanjuandeavila.com/event/sabado-santo-2/
ATTACH;FMTTYPE=image/jpeg:https://parroquiasanjuandeavila.com/wp-content/uploads/2024/03/SabadoSanto.jpg
END:VEVENT
END:VCALENDAR