BEGIN:VCALENDAR
VERSION:2.0
PRODID:-//Parroquia San Juan de Ávila - ECPv6.8.3//NONSGML v1.0//EN
CALSCALE:GREGORIAN
METHOD:PUBLISH
X-WR-CALNAME:Parroquia San Juan de Ávila
X-ORIGINAL-URL:https://parroquiasanjuandeavila.com
X-WR-CALDESC:Eventos para Parroquia San Juan de Ávila
REFRESH-INTERVAL;VALUE=DURATION:PT1H
X-Robots-Tag:noindex
X-PUBLISHED-TTL:PT1H
BEGIN:VTIMEZONE
TZID:Europe/Madrid
BEGIN:DAYLIGHT
TZOFFSETFROM:+0100
TZOFFSETTO:+0200
TZNAME:CEST
DTSTART:20240331T010000
END:DAYLIGHT
BEGIN:STANDARD
TZOFFSETFROM:+0200
TZOFFSETTO:+0100
TZNAME:CET
DTSTART:20241027T010000
END:STANDARD
END:VTIMEZONE
BEGIN:VEVENT
DTSTART;TZID=Europe/Madrid:20240323T113000
DTEND;TZID=Europe/Madrid:20240323T133000
DTSTAMP:20260419T221927
CREATED:20240318T111533Z
LAST-MODIFIED:20240318T111533Z
UID:17736-1711193400-1711200600@parroquiasanjuandeavila.com
SUMMARY:Peregrinación por la Vida
DESCRIPTION:El próximo sábado 23 de marzo de 2024 a las 11:30H estamos todos invitados a participar\, junto a nuestro obispo D. Ginés García Beltrán\, en la Peregrinación por la Vida en Cubas de la Sagra \n\nA las 11:30H Hay que estar en la Casa de Espiritualidad de la Misioneras Cruzadas C/Livino Stuik 1 Cubas de la Sagra. El desplazamiento hasta Cubas de la Sagra será cada cual con sus propios medios (coches particulares).\n11:30H Marcha penitencial caminando hasta el Monasterio de Santa María de la Cruz también en Cubas de la Sagra (camino muy fácil\, aproximadamente 1\,5 kms\, accesible a todos los públicos). Se irá rezando el Rosario y habrá sacerdotes para confesar en la parte de atrás de la marcha.\n12:30H Eucaristía en el Monasterio de Santa María de la Cruz pidiendo especialmente por los niños no nacidos y sus familias.\n\nEs una peregrinación en la que pueden participar todas las personas sensibles al drama del aborto y a las manipulaciones de los embriones para pedir por ello ante la Virgen. \nOrganiza la Delegación de Familia y Vida de la diócesis de Getafe y el Centro de Orientación Familiar (COF)  \n¡Te esperamos! ¡Defendamos la Vida! \nPuedes leer también: \n\nPeregrinación por la Vida 2023
URL:https://parroquiasanjuandeavila.com/event/peregrinacion-por-la-vida-3/
LOCATION:Cubas de la Sagra\, C/ Licinio Stuyck\, 1\, Cubas de la Sagra\, Madrid\, 28978\, España
ATTACH;FMTTYPE=image/jpeg:https://parroquiasanjuandeavila.com/wp-content/uploads/2024/03/Peregrinacion_Vida_2024.jpg
END:VEVENT
END:VCALENDAR